BEGIN:VCALENDAR
VERSION:2.0
PRODID:-//Squarespace Inc/Squarespace 6//v6//EN
BEGIN:VEVENT
UID:5b30638d575d1fd783be4145@squarespace.com
DTSTAMP:20180625T033756Z
DTSTART:20180714T010000Z
DTEND:20180714T040000Z
SUMMARY:GOOD CLEAN FILTH
END:VEVENT
END:VCALENDAR
