BEGIN:VCALENDAR
VERSION:2.0
PRODID:-//Squarespace Inc/Squarespace 6//v6//EN
BEGIN:VEVENT
UID:5b3063ef575d1fd783be4dcb@squarespace.com
DTSTAMP:20180625T033936Z
DTSTART:20180728T010000Z
DTEND:20180728T040000Z
SUMMARY:GOOD CLEAN FILTH
END:VEVENT
END:VCALENDAR
