BEGIN:VCALENDAR
VERSION:2.0
PRODID:-//Squarespace Inc/Squarespace 6//v6//EN
BEGIN:VEVENT
UID:5b4d6175f950b7ae38088b01@squarespace.com
DTSTAMP:20180717T032453Z
DTSTART:20180804T010000Z
DTEND:20180804T040000Z
SUMMARY:GOOD CLEAN FILTH
END:VEVENT
END:VCALENDAR
