BEGIN:VCALENDAR
VERSION:2.0
PRODID:-//Squarespace Inc/Squarespace 6//v6//EN
BEGIN:VEVENT
UID:5b4d6208aa4a99d6f5ae210d@squarespace.com
DTSTAMP:20180717T032713Z
DTSTART:20180825T010000Z
DTEND:20180825T040000Z
SUMMARY:GOOD CLEAN FILTH
END:VEVENT
END:VCALENDAR
