BEGIN:VCALENDAR
VERSION:2.0
PRODID:-//Squarespace Inc/Squarespace 6//v6//EN
BEGIN:VEVENT
UID:5b4d621faa4a99d6f5ae2525@squarespace.com
DTSTAMP:20180717T032739Z
DTSTART:20180901T010000Z
DTEND:20180901T040000Z
SUMMARY:GOOD CLEAN FILTH
END:VEVENT
END:VCALENDAR
