BEGIN:VCALENDAR
VERSION:2.0
PRODID:-//Squarespace Inc/Squarespace 6//v6//EN
BEGIN:VEVENT
UID:5b727c90562fa741a1d385a7@squarespace.com
DTSTAMP:20180814T065419Z
DTSTART:20180908T010000Z
DTEND:20180908T040000Z
SUMMARY:GOOD CLEAN FILTH
END:VEVENT
END:VCALENDAR
