BEGIN:VCALENDAR
VERSION:2.0
PRODID:-//Squarespace Inc/Squarespace 6//v6//EN
BEGIN:VEVENT
UID:5b727caa758d4657f519659e@squarespace.com
DTSTAMP:20180814T065442Z
DTSTART:20180915T010000Z
DTEND:20180915T040000Z
SUMMARY:GOOD CLEAN FILTH
END:VEVENT
END:VCALENDAR
