BEGIN:VCALENDAR
VERSION:2.0
PRODID:-//Squarespace Inc/Squarespace 6//v6//EN
BEGIN:VEVENT
UID:5b727cc72b6a2826587ed694@squarespace.com
DTSTAMP:20180814T065514Z
DTSTART:20180922T010000Z
DTEND:20180922T040000Z
SUMMARY:GOOD CLEAN FILTH
END:VEVENT
END:VCALENDAR
