BEGIN:VCALENDAR
VERSION:2.0
PRODID:-//Squarespace Inc/Squarespace 6//v6//EN
BEGIN:VEVENT
UID:5b9b2c7f88251b4c42fcb3c7@squarespace.com
DTSTAMP:20180914T033546Z
DTSTART:20181006T010000Z
DTEND:20181006T040000Z
SUMMARY:GOOD CLEAN FILTH
END:VEVENT
END:VCALENDAR
