BEGIN:VCALENDAR
VERSION:2.0
PRODID:-//Squarespace Inc/Squarespace 6//v6//EN
BEGIN:VEVENT
UID:5b9b2cb9898583f8626ff3bf@squarespace.com
DTSTAMP:20180914T033633Z
DTSTART:20181013T010000Z
DTEND:20181013T040000Z
SUMMARY:GOOD CLEAN FILTH
END:VEVENT
END:VCALENDAR
