BEGIN:VCALENDAR
VERSION:2.0
PRODID:-//Squarespace Inc/Squarespace 6//v6//EN
BEGIN:VEVENT
UID:5bb581abc830258437b758ac@squarespace.com
DTSTAMP:20181004T025758Z
DTSTART:20181117T020000Z
DTEND:20181117T050000Z
SUMMARY:GOOD CLEAN FILTH
END:VEVENT
END:VCALENDAR
