BEGIN:VCALENDAR
VERSION:2.0
PRODID:-//Squarespace Inc/Squarespace 6//v6//EN
BEGIN:VEVENT
UID:5bb58152ec212d48c3a8ee30@squarespace.com
DTSTAMP:20181004T025633Z
DTSTART:20181103T010000Z
DTEND:20181103T040000Z
SUMMARY:GOOD CLEAN FILTH
END:VEVENT
END:VCALENDAR
