BEGIN:VCALENDAR
VERSION:2.0
PRODID:-//Squarespace Inc/Squarespace 6//v6//EN
BEGIN:VEVENT
UID:5aeaa0496d2a733ad7c03822@squarespace.com
DTSTAMP:20180515T013428Z
DTSTART:20180505T020000Z
DTEND:20180505T070000Z
SUMMARY:AUSLEATHER UNDERGROUND
END:VEVENT
END:VCALENDAR
