BEGIN:VCALENDAR
VERSION:2.0
PRODID:-//Squarespace Inc/Squarespace 6//v6//EN
BEGIN:VEVENT
UID:5b0b64f070a6addca9d03b44@squarespace.com
DTSTAMP:20180528T021352Z
DTSTART:20180531T020000Z
DTEND:20180531T050000Z
SUMMARY:SLAY 4 PAY
END:VEVENT
END:VCALENDAR
