BEGIN:VCALENDAR
VERSION:2.0
PRODID:-//Squarespace Inc/Squarespace 6//v6//EN
BEGIN:VEVENT
UID:5b0b65e02b6a288855a07125@squarespace.com
DTSTAMP:20180528T021410Z
DTSTART:20180607T020000Z
DTEND:20180607T050000Z
SUMMARY:SLAY 4 PAY
END:VEVENT
END:VCALENDAR
