BEGIN:VCALENDAR
VERSION:2.0
PRODID:-//Squarespace Inc/Squarespace 6//v6//EN
BEGIN:VEVENT
UID:5b0b65fd6d2a73781c27e9a7@squarespace.com
DTSTAMP:20180528T021432Z
DTSTART:20180614T020000Z
DTEND:20180614T050000Z
SUMMARY:SLAY 4 PAY
END:VEVENT
END:VCALENDAR
