BEGIN:VCALENDAR
VERSION:2.0
PRODID:-//Squarespace Inc/Squarespace 6//v6//EN
BEGIN:VEVENT
UID:5b0b6616aa4a99033208a862@squarespace.com
DTSTAMP:20180528T021502Z
DTSTART:20180621T020000Z
DTEND:20180621T050000Z
SUMMARY:SLAY 4 PAY
END:VEVENT
END:VCALENDAR
