BEGIN:VCALENDAR
VERSION:2.0
PRODID:-//Squarespace Inc/Squarespace 6//v6//EN
BEGIN:VEVENT
UID:5b0b66321ae6cf75058c2cb2@squarespace.com
DTSTAMP:20180528T021522Z
DTSTART:20180628T020000Z
DTEND:20180628T050000Z
SUMMARY:SLAY 4 PAY
END:VEVENT
END:VCALENDAR
