BEGIN:VCALENDAR
VERSION:2.0
PRODID:-//Squarespace Inc/Squarespace 6//v6//EN
BEGIN:VEVENT
UID:5b306323aa4a995239a28fe1@squarespace.com
DTSTAMP:20180625T033615Z
DTSTART:20180705T020000Z
DTEND:20180705T050000Z
SUMMARY:SLAY 4 PAY
END:VEVENT
END:VCALENDAR
