BEGIN:VCALENDAR
VERSION:2.0
PRODID:-//Squarespace Inc/Squarespace 6//v6//EN
BEGIN:VEVENT
UID:5b30633b6d2a73177ac17afc@squarespace.com
DTSTAMP:20180625T033636Z
DTSTART:20180712T020000Z
DTEND:20180712T050000Z
SUMMARY:SLAY 4 PAY
END:VEVENT
END:VCALENDAR
