BEGIN:VCALENDAR
VERSION:2.0
PRODID:-//Squarespace Inc/Squarespace 6//v6//EN
BEGIN:VEVENT
UID:5b306350575d1fd783be39cf@squarespace.com
DTSTAMP:20180625T033700Z
DTSTART:20180719T020000Z
DTEND:20180719T050000Z
SUMMARY:SLAY 4 PAY
END:VEVENT
END:VCALENDAR
