BEGIN:VCALENDAR
VERSION:2.0
PRODID:-//Squarespace Inc/Squarespace 6//v6//EN
BEGIN:VEVENT
UID:5b727d2baa4a998f8503da8d@squarespace.com
DTSTAMP:20180814T065657Z
DTSTART:20180816T020000Z
DTEND:20180816T050000Z
SUMMARY:SLAY 4 PAY
END:VEVENT
END:VCALENDAR
