BEGIN:VCALENDAR
VERSION:2.0
PRODID:-//Squarespace Inc/Squarespace 6//v6//EN
BEGIN:VEVENT
UID:5b727d9621c67c8273c9778f@squarespace.com
DTSTAMP:20180814T065841Z
DTSTART:20180830T020000Z
DTEND:20180830T050000Z
SUMMARY:SLAY 4 PAY
END:VEVENT
END:VCALENDAR
