BEGIN:VCALENDAR
VERSION:2.0
PRODID:-//Squarespace Inc/Squarespace 6//v6//EN
BEGIN:VEVENT
UID:5b727dc9562fa741a1d38d23@squarespace.com
DTSTAMP:20180814T065930Z
DTSTART:20180913T020000Z
DTEND:20180913T050000Z
SUMMARY:SLAY 4 PAY
END:VEVENT
END:VCALENDAR
