BEGIN:VCALENDAR
VERSION:2.0
PRODID:-//Squarespace Inc/Squarespace 6//v6//EN
BEGIN:VEVENT
UID:5b727de421c67c8273c979aa@squarespace.com
DTSTAMP:20180814T065956Z
DTSTART:20180920T020000Z
DTEND:20180920T050000Z
SUMMARY:SLAY 4 PAY
END:VEVENT
END:VCALENDAR
