BEGIN:VCALENDAR
VERSION:2.0
PRODID:-//Squarespace Inc/Squarespace 6//v6//EN
BEGIN:VEVENT
UID:5b727e0f898583c37b22003d@squarespace.com
DTSTAMP:20180914T033248Z
DTSTART:20180927T020000Z
DTEND:20180927T050000Z
SUMMARY:SLAY 4 PAY
END:VEVENT
END:VCALENDAR
