BEGIN:VCALENDAR
VERSION:2.0
PRODID:-//Squarespace Inc/Squarespace 6//v6//EN
BEGIN:VEVENT
UID:5b9b2bfaaa4a99c088e82137@squarespace.com
DTSTAMP:20180914T033322Z
DTSTART:20181011T010000Z
DTEND:20181011T040000Z
SUMMARY:SLAY 4 PAY
END:VEVENT
END:VCALENDAR
