BEGIN:VCALENDAR
VERSION:2.0
PRODID:-//Squarespace Inc/Squarespace 6//v6//EN
BEGIN:VEVENT
UID:5b9b2c2b0e2e7272656ba141@squarespace.com
DTSTAMP:20180914T033413Z
DTSTART:20181025T010000Z
DTEND:20181025T040000Z
SUMMARY:SLAY 4 PAY
END:VEVENT
END:VCALENDAR
