BEGIN:VCALENDAR
VERSION:2.0
PRODID:-//Squarespace Inc/Squarespace 6//v6//EN
BEGIN:VEVENT
UID:5bb58248e79c7022474c3620@squarespace.com
DTSTAMP:20181004T030035Z
DTSTART:20181108T010000Z
DTEND:20181108T040000Z
SUMMARY:SLAY 4 PAY
END:VEVENT
END:VCALENDAR
