BEGIN:VCALENDAR
VERSION:2.0
PRODID:-//Squarespace Inc/Squarespace 6//v6//EN
BEGIN:VEVENT
UID:5bb582748165f528d716efff@squarespace.com
DTSTAMP:20181204T221905Z
DTSTART:20181206T030000Z
DTEND:20181206T060000Z
SUMMARY:SLAY 4 PAY
END:VEVENT
END:VCALENDAR
