BEGIN:VCALENDAR
VERSION:2.0
PRODID:-//Squarespace Inc/Squarespace 6//v6//EN
BEGIN:VEVENT
UID:5aea9f8d2b6a283a9f8f3e7d@squarespace.com
DTSTAMP:20180503T061515Z
DTSTART:20180506T010000Z
DTEND:20180506T040000Z
SUMMARY:THE OXFORD SMASHES 'CAN'T TOUCH THIS'
END:VEVENT
END:VCALENDAR
