BEGIN:VCALENDAR
VERSION:2.0
PRODID:-//Squarespace Inc/Squarespace 6//v6//EN
BEGIN:VEVENT
UID:5aeaa29b1ae6cf4e529b7af2@squarespace.com
DTSTAMP:20180503T061609Z
DTSTART:20180513T010000Z
DTEND:20180513T040000Z
SUMMARY:THE OXFORD SMASHES 'CAN'T TOUCH THIS'
END:VEVENT
END:VCALENDAR
