BEGIN:VCALENDAR
VERSION:2.0
PRODID:-//Squarespace Inc/Squarespace 6//v6//EN
BEGIN:VEVENT
UID:5aeaa2b370a6ad7a6068b68d@squarespace.com
DTSTAMP:20180503T061702Z
DTSTART:20180520T010000Z
DTEND:20180520T040000Z
SUMMARY:THE OXFORD SMASHES 'CAN'T TOUCH THIS'
END:VEVENT
END:VCALENDAR
