BEGIN:VCALENDAR
VERSION:2.0
PRODID:-//Squarespace Inc/Squarespace 6//v6//EN
BEGIN:VEVENT
UID:5afa33996d2a73b330e529f9@squarespace.com
DTSTAMP:20180515T011101Z
DTSTART:20180603T010000Z
DTEND:20180603T040000Z
SUMMARY:THE OXFORD SMASHES 'CAN'T TOUCH THIS'
END:VEVENT
END:VCALENDAR
