BEGIN:VCALENDAR
VERSION:2.0
PRODID:-//Squarespace Inc/Squarespace 6//v6//EN
BEGIN:VEVENT
UID:5afa33b288251b0a3ecb1452@squarespace.com
DTSTAMP:20180515T011123Z
DTSTART:20180610T010000Z
DTEND:20180610T040000Z
SUMMARY:THE OXFORD SMASHES 'CAN'T TOUCH THIS'
END:VEVENT
END:VCALENDAR
