BEGIN:VCALENDAR
VERSION:2.0
PRODID:-//Squarespace Inc/Squarespace 6//v6//EN
BEGIN:VEVENT
UID:5afa33d9575d1ff8cd987aae@squarespace.com
DTSTAMP:20180515T011203Z
DTSTART:20180617T010000Z
DTEND:20180617T040000Z
SUMMARY:THE OXFORD SMASHES 'CAN'T TOUCH THIS'
END:VEVENT
END:VCALENDAR
