BEGIN:VCALENDAR
VERSION:2.0
PRODID:-//Squarespace Inc/Squarespace 6//v6//EN
BEGIN:VEVENT
UID:5afa33f270a6ad25e68c7df4@squarespace.com
DTSTAMP:20180515T011229Z
DTSTART:20180624T010000Z
DTEND:20180624T040000Z
SUMMARY:THE OXFORD SMASHES 'CAN'T TOUCH THIS'
END:VEVENT
END:VCALENDAR
