BEGIN:VCALENDAR
VERSION:2.0
PRODID:-//Squarespace Inc/Squarespace 6//v6//EN
BEGIN:VEVENT
UID:5afa34091ae6cfbdcf9ce5d2@squarespace.com
DTSTAMP:20180625T033957Z
DTSTART:20180701T010000Z
DTEND:20180701T040000Z
SUMMARY:'CALLING' LAUNCH NIGHT
END:VEVENT
END:VCALENDAR
