BEGIN:VCALENDAR
VERSION:2.0
PRODID:-//Squarespace Inc/Squarespace 6//v6//EN
BEGIN:VEVENT
UID:5b30640d2b6a28effe0c1257@squarespace.com
DTSTAMP:20180625T034026Z
DTSTART:20180708T010000Z
DTEND:20180708T040000Z
SUMMARY:CALLING
END:VEVENT
END:VCALENDAR
