BEGIN:VCALENDAR
VERSION:2.0
PRODID:-//Squarespace Inc/Squarespace 6//v6//EN
BEGIN:VEVENT
UID:5b30643f70a6ade8bccbae68@squarespace.com
DTSTAMP:20180625T034057Z
DTSTART:20180715T010000Z
DTEND:20180715T040000Z
SUMMARY:CALLING
END:VEVENT
END:VCALENDAR
