BEGIN:VCALENDAR
VERSION:2.0
PRODID:-//Squarespace Inc/Squarespace 6//v6//EN
BEGIN:VEVENT
UID:5b30645f352f53e6659090c9@squarespace.com
DTSTAMP:20180625T034129Z
DTSTART:20180722T010000Z
DTEND:20180722T040000Z
SUMMARY:CALLING
END:VEVENT
END:VCALENDAR
