BEGIN:VCALENDAR
VERSION:2.0
PRODID:-//Squarespace Inc/Squarespace 6//v6//EN
BEGIN:VEVENT
UID:5b4d6239562fa7cae5b2128f@squarespace.com
DTSTAMP:20180717T032835Z
DTSTART:20180805T010000Z
DTEND:20180805T040000Z
SUMMARY:THE OXFORD SMASHES: CALLING
END:VEVENT
END:VCALENDAR
