BEGIN:VCALENDAR
VERSION:2.0
PRODID:-//Squarespace Inc/Squarespace 6//v6//EN
BEGIN:VEVENT
UID:5b727c7b562fa741a1d3853e@squarespace.com
DTSTAMP:20180914T033806Z
DTSTART:20180930T010000Z
DTEND:20180930T040000Z
SUMMARY:THE OXFORD SMASHES: CALLING
END:VEVENT
END:VCALENDAR
