BEGIN:VCALENDAR
VERSION:2.0
PRODID:-//Squarespace Inc/Squarespace 6//v6//EN
BEGIN:VEVENT
UID:5b9b2d9f8a922db50d24fd36@squarespace.com
DTSTAMP:20180914T034026Z
DTSTART:20181021T010000Z
DTEND:20181021T040000Z
SUMMARY:THE OXFORD SMASHES: CALLING
END:VEVENT
END:VCALENDAR
