BEGIN:VCALENDAR
VERSION:2.0
PRODID:-//Squarespace Inc/Squarespace 6//v6//EN
BEGIN:VEVENT
UID:5b9b2db5898583f8626ffda1@squarespace.com
DTSTAMP:20180914T034046Z
DTSTART:20181028T010000Z
DTEND:20181028T040000Z
SUMMARY:THE OXFORD SMASHES: CALLING
END:VEVENT
END:VCALENDAR
