BEGIN:VCALENDAR
VERSION:2.0
PRODID:-//Squarespace Inc/Squarespace 6//v6//EN
BEGIN:VEVENT
UID:5b727c2d4d7a9c9cf5e5341d@squarespace.com
DTSTAMP:20180814T065242Z
DTSTART:20180909T010000Z
DTEND:20180909T040000Z
SUMMARY:THE OXFORD SMASHES: CALLING
END:VEVENT
END:VCALENDAR
