BEGIN:VCALENDAR
VERSION:2.0
PRODID:-//Squarespace Inc/Squarespace 6//v6//EN
BEGIN:VEVENT
UID:5b727c68f950b752f945455c@squarespace.com
DTSTAMP:20180814T065338Z
DTSTART:20180923T010000Z
DTEND:20180923T040000Z
SUMMARY:THE OXFORD SMASHES: CALLING
END:VEVENT
END:VCALENDAR
