BEGIN:VCALENDAR
VERSION:2.0
PRODID:-//Squarespace Inc/Squarespace 6//v6//EN
BEGIN:VEVENT
UID:5b4d630e88251ba9e4b56b3e@squarespace.com
DTSTAMP:20180717T033139Z
DTSTART:20180826T010000Z
DTEND:20180826T040000Z
SUMMARY:THE OXFORD SMASHES: CALLING
END:VEVENT
END:VCALENDAR
