BEGIN:VCALENDAR
VERSION:2.0
PRODID:-//Squarespace Inc/Squarespace 6//v6//EN
BEGIN:VEVENT
UID:5b727c14352f53bf4dcfa26a@squarespace.com
DTSTAMP:20180814T065216Z
DTSTART:20180902T010000Z
DTEND:20180902T040000Z
SUMMARY:THE OXFORD SMASHES: CALLING
END:VEVENT
END:VCALENDAR
