BEGIN:VCALENDAR
VERSION:2.0
PRODID:-//Squarespace Inc/Squarespace 6//v6//EN
BEGIN:VEVENT
UID:5aeaa2c7562fa782f1ba7a3b@squarespace.com
DTSTAMP:20180503T061731Z
DTSTART:20180527T010000Z
DTEND:20180527T040000Z
SUMMARY:THE OXFORD SMASHES 'CAN'T TOUCH THIS'
END:VEVENT
END:VCALENDAR
